BEGIN:VCALENDAR
VERSION:2.0
PRODID:-//Craftngo - ECPv6.15.18//NONSGML v1.0//EN
CALSCALE:GREGORIAN
METHOD:PUBLISH
X-ORIGINAL-URL:http://www.craftngo.co.uk
X-WR-CALDESC:Events for Craftngo
REFRESH-INTERVAL;VALUE=DURATION:PT1H
X-Robots-Tag:noindex
X-PUBLISHED-TTL:PT1H
BEGIN:VTIMEZONE
TZID:UTC
BEGIN:STANDARD
TZOFFSETFROM:+0000
TZOFFSETTO:+0000
TZNAME:UTC
DTSTART:20200101T000000
END:STANDARD
END:VTIMEZONE
BEGIN:VEVENT
DTSTART;TZID=UTC:20210918T093000
DTEND;TZID=UTC:20210918T133000
DTSTAMP:20260424T075239
CREATED:20210719T093946Z
LAST-MODIFIED:20210719T093946Z
UID:8356-1631957400-1631971800@www.craftngo.co.uk
SUMMARY:Sit & Sew with Kimberley
DESCRIPTION:Project this week: UFOs.\n  \nPlease feel welcome to come and join our Sit & Sew Group at St Lawrence Parish Centre. \nAll abilities welcome whether you are a beginner or an experienced sewer. \nSit & Sew Sessions: \nHalf day: 9.30 to 1.00.  £17.00. \nWorkshops and projects to be advised and are at an additional price. \nTo book your place (places are limited) and for further details: \nContact Kim on the number below or drop her an email. \n07469 896728 | 01452 530012 \nCraftngo for Fabrics \ncraftngo@hotmail.com \nwww.craftngo.co.uk
URL:http://www.craftngo.co.uk/event/sit-sew-with-kimberley-3/
LOCATION:St Lawrence Parish Centre\, Church Lane\, Barnwood\, Gloucester\, GL4 3JB\, United Kingdom
ORGANIZER;CN="Craftngo for Fabrics":MAILTO:craftngo@hotmail.com
END:VEVENT
BEGIN:VEVENT
DTSTART;TZID=UTC:20210911T093000
DTEND;TZID=UTC:20210911T130000
DTSTAMP:20260424T075239
CREATED:20210718T100916Z
LAST-MODIFIED:20210718T100916Z
UID:8348-1631352600-1631365200@www.craftngo.co.uk
SUMMARY:Embroidery with Kimberley
DESCRIPTION:Project this week: Pictures.\nPlease feel welcome to come and join our Embroidery Group at St Lawrence Parish Centre. \nAll abilities welcome whether you are a beginner or an experienced sewer. \nEmbroidery Group Sessions: 9.30 to 1.00.  £17.00.  \nWorkshops and projects to be advised and are at an additional price. \nTo book your place (places are limited) and for further details: \nContact Kim on the number below or drop her an email. \n07469 896728 | 01452 530012 \nCraftngo for Fabrics \ncraftngo@hotmail.com \nwww.craftngo.co.uk
URL:http://www.craftngo.co.uk/event/embroidery-with-kimberley-2/
LOCATION:St Lawrence Parish Centre\, Church Lane\, Barnwood\, Gloucester\, GL4 3JB\, United Kingdom
ORGANIZER;CN="Craftngo for Fabrics":MAILTO:craftngo@hotmail.com
END:VEVENT
BEGIN:VEVENT
DTSTART;TZID=UTC:20210904T093000
DTEND;TZID=UTC:20210904T160000
DTSTAMP:20260424T075239
CREATED:20210718T100033Z
LAST-MODIFIED:20210718T100033Z
UID:8346-1630747800-1630771200@www.craftngo.co.uk
SUMMARY:Sit & Sew with Kimberley
DESCRIPTION:Project this week: Applique.\nPlease feel welcome to come and join our Sit & Sew Group at St Lawrence Parish Centre. \nAll abilities welcome whether you are a beginner or an experienced sewer. \nSit & Sew Sessions: \nHalf day: 9.30 to 1.00.  £17.00. \nFull day: 9.30 to 4.00.  £30.00. \nWorkshops and projects to be advised and are at an additional price. \nTo book your place (places are limited) and for further details: \nContact Kim on the number below or drop her an email. \n07469 896728 | 01452 530012 \nCraftngo for Fabrics \ncraftngo@hotmail.com \nwww.craftngo.co.uk
URL:http://www.craftngo.co.uk/event/sit-sew-with-kimberley-2/
LOCATION:St Lawrence Parish Centre\, Church Lane\, Barnwood\, Gloucester\, GL4 3JB\, United Kingdom
ORGANIZER;CN="Craftngo for Fabrics":MAILTO:craftngo@hotmail.com
END:VEVENT
BEGIN:VEVENT
DTSTART;TZID=UTC:20210731T093000
DTEND;TZID=UTC:20210731T130000
DTSTAMP:20260424T075239
CREATED:20210718T085135Z
LAST-MODIFIED:20210718T085138Z
UID:8344-1627723800-1627736400@www.craftngo.co.uk
SUMMARY:Embroidery with Kimberley
DESCRIPTION:Embroidery with Kimberley \n\n\n\nProject this week: Using Transfers. \n\n\n\nPlease feel welcome to come and join our Embroidery Group at St Lawrence Parish Centre. \n\n\n\nAll abilities welcome whether you are a beginner or an experienced sewer. \n\n\n\nSit & Sew Sessions 9.30 to 1.00.  £17.00. \n\n\n\nWorkshops and projects to be advised and are at an additional price. \n\n\n\nTo book your place (places are limited) and for further details: \n\n\n\nContact Kim on the number below or drop her an email. \n\n\n\n07469 896728 | 01452 530012 \n\n\n\nCraftngo for Fabrics \n\n\n\ncraftngo@hotmail.com \n\n\n\nwww.craftngo.co.uk
URL:http://www.craftngo.co.uk/event/embroidery-with-kimberley/
LOCATION:St Lawrence Parish Centre\, Church Lane\, Barnwood\, Gloucester\, GL4 3JB\, United Kingdom
ORGANIZER;CN="Craftngo for Fabrics":MAILTO:craftngo@hotmail.com
END:VEVENT
BEGIN:VEVENT
DTSTART;TZID=UTC:20210724T093000
DTEND;TZID=UTC:20210724T130000
DTSTAMP:20260424T075239
CREATED:20210717T152119Z
LAST-MODIFIED:20210717T152122Z
UID:8342-1627119000-1627131600@www.craftngo.co.uk
SUMMARY:Sit & Sew with Kimberley
DESCRIPTION:Sit & Sew with Kimberley \n\n\n\nProject this week: Abstract sewing using a twin needle. \n\n\n\nPlease feel welcome to come and join our Sit & Sew Group at St Lawrence Parish Centre. \n\n\n\nAll abilities welcome whether you are a beginner or an experienced sewer. \n\n\n\nSit & Sew Sessions 9.30 to 1.00.  £17.00. \n\n\n\nWorkshops and projects to be advised and are at an additional price. \n\n\n\nTo book your place (places are limited) and for further details: \n\n\n\nContact Kim on the number below or drop her an email. \n\n\n\n07469 896728 | 01452 530012 \n\n\n\nCraftngo for Fabrics \n\n\n\ncraftngo@hotmail.com \n\n\n\nwww.craftngo.co.uk
URL:http://www.craftngo.co.uk/event/sit-sew-with-kimberley/
LOCATION:St Lawrence Parish Centre\, Church Lane\, Barnwood\, Gloucester\, GL4 3JB\, United Kingdom
ORGANIZER;CN="Craftngo for Fabrics":MAILTO:craftngo@hotmail.com
END:VEVENT
END:VCALENDAR